BEGIN:VCALENDAR
VERSION:2.0
PRODID:-//Digi2U - ECPv6.15.20//NONSGML v1.0//EN
CALSCALE:GREGORIAN
METHOD:PUBLISH
X-WR-CALNAME:Digi2U
X-ORIGINAL-URL:https://digi2u.org
X-WR-CALDESC:Events for Digi2U
REFRESH-INTERVAL;VALUE=DURATION:PT1H
X-Robots-Tag:noindex
X-PUBLISHED-TTL:PT1H
BEGIN:VTIMEZONE
TZID:UTC
BEGIN:STANDARD
TZOFFSETFROM:+0000
TZOFFSETTO:+0000
TZNAME:UTC
DTSTART:20230101T000000
END:STANDARD
END:VTIMEZONE
BEGIN:VEVENT
DTSTART;VALUE=DATE:20241009
DTEND;VALUE=DATE:20241013
DTSTAMP:20260424T102001
CREATED:20200909T040219Z
LAST-MODIFIED:20241206T012857Z
UID:2053-1728432000-1728777599@digi2u.org
SUMMARY:NYCC 2024: Where Heroes Unite - New York's Ultimate Pop Culture Celebration
DESCRIPTION:Event Overview\nNew York Comic Con (NYCC) 2025 is set to return to the Javits Center from October 9-12\, promising an electrifying celebration of pop culture\, creativity\, and community that transcends traditional fan conventions. \nKey Highlights\nEvent Specifics \n\nDates: October 9-12\, 2025\nLocation: Javits Center\, New York City\nTheme: Inclusivity and Creative Expression\n\n2024 Cosplay Championship Winners \n\nFirst Place: Patterner Cosplay as Firesong K’Treva from Valdemar series\nSecond Place: Caity Stella Cosplay as Cinderella\nThird Place: A Rad One Cosplay as Din Djarin from The Book of Boba Fett\n\nFestival Philosophy\nNYCC is more than just a convention – it’s a safe haven for fans that: \n\nCelebrates diversity and inclusion\nWelcomes all cultural backgrounds\nEmbraces individual expression\nProvides a platform for pop culture enthusiasts\nCreates memorable experiences\n\nMission Statement\n“Welcome home\, hero” – NYCC invites attendees to: \n\nFeel unafraid to express their passions\nConnect with like-minded fans\nExperience the best of pop culture\nGet inspired by celebrities and creators\nCreate lasting memories with fellow enthusiasts\n\nThe event continues to be a beacon of creativity\, acceptance\, and unbridled excitement for fans across the spectrum of pop culture.
URL:https://digi2u.org/event/use-hashtags-to-support-online-2/
LOCATION:New York\, NY\, United States
CATEGORIES:Pop Culture & Entertainment
ATTACH;FMTTYPE=image/png:https://digi2u.org/wp-content/uploads/2020/09/NYC_2.png
END:VEVENT
BEGIN:VEVENT
DTSTART;VALUE=DATE:20240923
DTEND;VALUE=DATE:20240925
DTSTAMP:20260424T102001
CREATED:20200909T040225Z
LAST-MODIFIED:20241105T205607Z
UID:2057-1727049600-1727222399@digi2u.org
SUMMARY:KAFF Replay 2024: Reimagining Futures - The Ultimate Afrofuturism Festival
DESCRIPTION:Event Overview\nKhem Animation Film Festival (KAFF) Replay is a groundbreaking Afrofuturism festival scheduled for September 28th\, 2024 \n1\n. This unique event promises to be an immersive exploration of Black creativity\, technological imagination\, and cultural innovation through the lens of animation and futuristic storytelling. \nKey Highlights\nEvent Essence \n\nDate: September 28th\, 2024\nFocus: Afrofuturism\nPlatform: Animation Film Festival\nUnique Selling Point: Reimagining cultural narratives through visual storytelling\n\nFestival Concept\nThe event aims to: \n\nCelebrate Black creativity\nShowcase innovative animation\nExplore futuristic cultural perspectives\nProvide a platform for emerging artists\nChallenge traditional storytelling paradigms\n\nSignificance\nKAFF Replay represents more than just a film festival. It’s a cultural movement that: \n\nEmpowers Black creators\nChallenges mainstream narrative frameworks\nDemonstrates the power of imaginative storytelling\nConnects technology\, art\, and cultural identity\n\nThe festival invites attendees to experience an “unforgettable afrofuturism experience” \n1\n\, promising a transformative journey through animation\, creativity\, and visionary storytelling.
URL:https://digi2u.org/event/provide-pure-water-and-fresh-food-fo/
LOCATION:Newark\, NJ\, NJ\, United States
CATEGORIES:Cultural & Creative Arts
ATTACH;FMTTYPE=image/png:https://digi2u.org/wp-content/uploads/2020/09/khemfest2-e1736530659240.png
END:VEVENT
BEGIN:VEVENT
DTSTART;VALUE=DATE:20240904
DTEND;VALUE=DATE:20240907
DTSTAMP:20260424T102001
CREATED:20200909T040221Z
LAST-MODIFIED:20241105T205618Z
UID:2056-1725408000-1725667199@digi2u.org
SUMMARY:BITCON 2024: Breaking Barriers\, Building Futures - Atlanta's Tech Empowerment Summit
DESCRIPTION:Event Overview\nBITCON 2024 is a transformative technology conference hosted by Blacks In Technology (BIT) from September 4-6 in Atlanta\, Georgia. The event is a unique blend of professional development\, networking\, and celebration\, designed to empower Black tech professionals and aspiring technologists. \nKey Highlights\nEvent Composition \n\nTwo parts professional development\nOne part block party\nOne part professional networking\n\nAttendee Experience\nThe conference offers a comprehensive experience that goes beyond traditional tech events\, focusing on: \n\nCareer advancement\nSkill enhancement\nCommunity building\nJob opportunities\nCutting-edge industry insights\n\nUnique Features\n\nDiverse speaker lineup\nWorkshops and educational sessions\nNetworking opportunities\nOn-site job recruitment\nAfter-parties and social events\nBenefit concert featuring rapper T.I.\n\nTestimonial Insights\nAttendees have praised BITCON for its: \n\nAuthentic and inclusive environment\nIntentional programming\nOpportunities for career transition\nDirect connections with tech companies\nSupportive community atmosphere\n\nThe event represents a critical platform for Black professionals in technology\, providing a space for learning\, growth\, and meaningful connections in the tech industry.
URL:https://digi2u.org/event/excitement-from-a-quote-about-charity-2/
LOCATION:Atlanta\, GA\, United States
CATEGORIES:Business & Financial Literacy
ATTACH;FMTTYPE=image/png:https://digi2u.org/wp-content/uploads/2020/09/bitcon.png
END:VEVENT
BEGIN:VEVENT
DTSTART;VALUE=DATE:20240823
DTEND;VALUE=DATE:20240826
DTSTAMP:20260424T102001
CREATED:20200909T040226Z
LAST-MODIFIED:20241105T205647Z
UID:2058-1724371200-1724630399@digi2u.org
SUMMARY:Invest Fest 2024: Empowering Dreams\, Transforming Futures - Atlanta's Ultimate Financial Literacy Summit
DESCRIPTION:Event Overview\nInvest Fest 2024 is a groundbreaking three-day conference held from August 23-25 at the Georgia World Congress Center in Atlanta\, bringing together over 20\,000 entrepreneurs\, business leaders\, and aspiring professionals for an unprecedented celebration of financial literacy\, entrepreneurship\, and cultural empowerment. \nKey Highlights\nFounding Vision \n\nCreated by Rashad Bilal and Troy Millings of Earn Your Leisure\nCo-founded by Matthew Garland\nDubbed “the Super Bowl for entrepreneurs”\n\nHeadline Speakers\nA star-studded lineup featuring: \n\nCurtis “50 Cent” Jackson\nSteve Harvey\nDaymond John\nStephen A. Smith\nT.I.\nLauren London\nDon Peebles\nWyclef Jean\nWill.i.am\n\nUnique Features\nSignature Events \n\n$100K Nipsey Hussle Business Grant\nMarketplace for local and national businesses\nAI and technology innovation showcases\nPitch competitions\nNetworking opportunities\n\nTransformative Sessions \n\nFinancial literacy workshops\nReal estate insights\nCryptocurrency discussions\nEntrepreneurship strategies\nTechnology and innovation panels\n\nImpact and Mission\nInvest Fest 2024 goes beyond a traditional conference\, serving as a powerful platform for: \n\nEmpowering minority communities\nPromoting financial education\nSupporting Black entrepreneurship\nProviding actionable business strategies\nCreating meaningful networking connections\n\nThe event represents a critical intersection of culture\, business\, and financial empowerment\, inspiring attendees to transform their entrepreneurial dreams into reality.
URL:https://digi2u.org/event/provide-pure-water-and-fresh-food-for-syrian/
LOCATION:Atlanta\, GA\, United States
CATEGORIES:Business & Financial Literacy
ATTACH;FMTTYPE=image/png:https://digi2u.org/wp-content/uploads/2020/09/InvestFest24.png
END:VEVENT
BEGIN:VEVENT
DTSTART;VALUE=DATE:20240805
DTEND;VALUE=DATE:20240809
DTSTAMP:20260424T102001
CREATED:20200909T040220Z
LAST-MODIFIED:20241105T205701Z
UID:2054-1722816000-1723161599@digi2u.org
SUMMARY:DJX '24: Amplifying the Future of Music - Atlantic City Convergence
DESCRIPTION:Event Highlights\nAttendance and ParticipationDJX ’24 saw significant growth compared to the previous year: \n\n7% increase in overall attendance\n15% increase in paid all-access passes\n9% larger show floor\n97 exhibiting brands\nAttendees from 41 U.S. states and 12 countries\n1\n\n\nExhibits and TechnologyThe event showcased a wide range of DJ-related technology and products from leading brands such as AlphaTheta/Pioneer DJ\, QSC\, DAS Audio\, Chauvet DJ\, Technics\, and many others. New additions to the show floor included “THE EDIT\,” which focused on studio production and content creation technologies \n1\n.Educational SeminarsDJX ’24 offered 37 topical seminars covering various aspects of DJing\, including mobile\, club\, streaming\, studio\, and beginner-level topics. The event also featured special “Keynote Q&A” sessions with industry notables: \n\nAugust 6: DJ/producer team Disco Fries\nAugust 7: Superstar DJ/producer Laidback Luke\n1\n\n\nAfter Dark Events\nThe DJX After Dark series provided attendees with exciting networking and entertainment opportunities: \n\nAugust 5: “Gimme Gimme Disco” party at HQ2\, Ocean Casino Resort\nAugust 6: “Twisted Tuesday” party featuring turntablist Puffy and other talented DJs\nAugust 7: “Millennium-Mixtape Party” and “Disco & 40 Years of House Music” back-to-back events\n1\n2\n\n\nNew Initiatives\nDJX ’24 introduced several new features to enhance the attendee experience: \n\nDJX Sunset Sessions: Relaxed networking events with food\, drink\, and music\nThe Scramble: A showcase of diverse DJs performing open-format sets\nEast Coast Portable Battle @ DJX\nMaster Classes in the Education sector\nDJX Annex meet-up space\nDJX Wedding Lounge\nThe Influencer Space\, an Electro-Voice collaboration\n1\n\n\nThe success of DJX ’24 demonstrates the event’s continued importance in the DJ industry\, providing a platform for professionals to connect\, learn\, and experience the latest in DJ technology and trends.
URL:https://digi2u.org/event/excitement-from-a-quote-about-charity/
LOCATION:Atlantic City
CATEGORIES:Audio & Music Production
ATTACH;FMTTYPE=image/jpeg:https://digi2u.org/wp-content/uploads/2020/09/photo-output.jpeg
END:VEVENT
END:VCALENDAR